BEGIN:VCALENDAR
VERSION:2.0
PRODID:-//AudioTheme 2.3.8
BEGIN:VEVENT
UID:urn:uuid:84e33b5e-4bf3-4036-9f42-9c561ac00bb3
URL:https://mitchmcvicker.com/concerts/gig-922/
DTSTART;VALUE=DATE:20160330
SUMMARY:Northridge Baptist Church
LOCATION:Northridge Baptist Church\, Mitchell\, SD
END:VEVENT
END:VCALENDAR
