BEGIN:VCALENDAR
VERSION:2.0
PRODID:-//AudioTheme 2.3.8
BEGIN:VEVENT
UID:urn:uuid:3cfef3e0-aa05-4903-bb83-b799311b22dd
URL:https://mitchmcvicker.com/concerts/gig-920/
DTSTART;VALUE=DATE:20160329
SUMMARY:Opinion Brewing Compay
LOCATION:Opinion Brewing Compay\, Newport\, MN
END:VEVENT
END:VCALENDAR
