BEGIN:VCALENDAR
VERSION:2.0
PRODID:-//AudioTheme 2.3.8
BEGIN:VEVENT
UID:urn:uuid:1707cdc7-dbff-4bbc-b53f-c54ae7439176
URL:https://mitchmcvicker.com/concerts/gig-918/
DTSTART;VALUE=DATE:20160323
SUMMARY:Northwoods Assembly
LOCATION:Northwoods Assembly\, Perham\, \, MN
END:VEVENT
END:VCALENDAR
