BEGIN:VCALENDAR
VERSION:2.0
PRODID:-//AudioTheme 2.3.8
BEGIN:VEVENT
UID:urn:uuid:7f4b1f92-8e0e-4437-a5f9-d0306a0e2e6c
URL:https://mitchmcvicker.com/concerts/gig-914/
DTSTART;VALUE=DATE:20160321
SUMMARY:Village Church of Barrington
LOCATION:Village Church of Barrington\, Barrington\, IL
END:VEVENT
END:VCALENDAR
