BEGIN:VCALENDAR
VERSION:2.0
PRODID:-//AudioTheme 2.3.8
BEGIN:VEVENT
UID:urn:uuid:4b3ef390-ad63-4495-889f-3279e36bfc15
URL:https://mitchmcvicker.com/concerts/gig-912/
DTSTART;VALUE=DATE:20160320
SUMMARY:Faith Presbyterian Church
LOCATION:Faith Presbyterian Church\, Franklin (Milwaukee)\, WI
END:VEVENT
END:VCALENDAR
