BEGIN:VCALENDAR
VERSION:2.0
PRODID:-//AudioTheme 2.3.8
BEGIN:VEVENT
UID:urn:uuid:217e5cb8-926a-444e-b7e0-323ae97cbb98
URL:https://mitchmcvicker.com/concerts/gig-909/
DTSTART;VALUE=DATE:20160318
SUMMARY:Countryside Christian Church
LOCATION:Countryside Christian Church\, 3203 8th Avenue\, Kearney\, NE
END:VEVENT
END:VCALENDAR
