BEGIN:VCALENDAR
VERSION:2.0
PRODID:-//AudioTheme 2.3.8
BEGIN:VEVENT
UID:urn:uuid:b94a653b-be5b-4164-b662-f35df2e7d9ab
URL:https://mitchmcvicker.com/concerts/gig-907/
DTSTART;VALUE=DATE:20160317
SUMMARY:Cornerstone Fellowship Church
LOCATION:Cornerstone Fellowship Church\, Shenandoah\, IA
END:VEVENT
END:VCALENDAR
