BEGIN:VCALENDAR
VERSION:2.0
PRODID:-//AudioTheme 2.3.8
BEGIN:VEVENT
UID:urn:uuid:099a0ab0-628c-44be-a287-019dbdef3516
URL:https://mitchmcvicker.com/concerts/gig-897/
DTSTART;VALUE=DATE:20160316
SUMMARY:Cardin Baptist Church
LOCATION:Cardin Baptist Church\, Miami\, OK
END:VEVENT
END:VCALENDAR
