BEGIN:VCALENDAR
VERSION:2.0
PRODID:-//AudioTheme 2.3.8
BEGIN:VEVENT
UID:urn:uuid:4d03495d-b7f6-4c51-97b6-a2b1c8aca9c6
URL:https://mitchmcvicker.com/concerts/gig-895/
DTSTART;VALUE=DATE:20160227
SUMMARY:Longview Christian Church
LOCATION:Longview Christian Church\, Longview\, TX
END:VEVENT
END:VCALENDAR
