BEGIN:VCALENDAR
VERSION:2.0
PRODID:-//AudioTheme 2.3.8
BEGIN:VEVENT
UID:urn:uuid:19b6c150-744f-4bdb-9d4f-a17ea8ed35b8
URL:https://mitchmcvicker.com/concerts/gig-894/
DTSTART;VALUE=DATE:20160226
SUMMARY:Brothers Keeper Church
LOCATION:Brothers Keeper Church\, 280 Homer Cemetery Rd\, Lufkin\, TX
END:VEVENT
END:VCALENDAR
