BEGIN:VCALENDAR
VERSION:2.0
PRODID:-//AudioTheme 2.3.8
BEGIN:VEVENT
UID:urn:uuid:bae20fd2-a561-49a7-ad1e-e8abe137bbb3
URL:https://mitchmcvicker.com/concerts/gig-893/
DTSTART;VALUE=DATE:20160225
SUMMARY:Dallas Christian College
LOCATION:Dallas Christian College\, 2700 Christian Parkway\, Dallas\, TX\, USA\, 75234
END:VEVENT
END:VCALENDAR
