BEGIN:VCALENDAR
VERSION:2.0
PRODID:-//AudioTheme 2.3.8
BEGIN:VEVENT
UID:urn:uuid:f783ca56-35e7-4ca1-9b8a-4fc034271392
URL:https://mitchmcvicker.com/concerts/gig-891/
DTSTART;VALUE=DATE:20160224
SUMMARY:Pursuit Christian Fellowship
LOCATION:Pursuit Christian Fellowship\, Sacshe\, TX
END:VEVENT
END:VCALENDAR
