BEGIN:VCALENDAR
VERSION:2.0
PRODID:-//AudioTheme 2.3.8
BEGIN:VEVENT
UID:urn:uuid:ecef18fb-3d76-4277-9ad2-c1db059fd109
URL:https://mitchmcvicker.com/concerts/gig-890/
DTSTART;VALUE=DATE:20160221
SUMMARY:Faith United Methodist Church
LOCATION:Faith United Methodist Church\, 6060 Teasley Lane\, Denton\, TX
END:VEVENT
END:VCALENDAR
