BEGIN:VCALENDAR
VERSION:2.0
PRODID:-//AudioTheme 2.3.8
BEGIN:VEVENT
UID:urn:uuid:f87f594e-cfb8-4cb6-b251-5a4d876660ff
URL:https://mitchmcvicker.com/concerts/gig-888/
DTSTART;VALUE=DATE:20160220
SUMMARY:Lolita United Methodist Church
LOCATION:Lolita United Methodist Church\, Lolita\, TX
END:VEVENT
END:VCALENDAR
