BEGIN:VCALENDAR
VERSION:2.0
PRODID:-//AudioTheme 2.3.8
BEGIN:VEVENT
UID:urn:uuid:d2bc5b64-526d-46ab-97cf-b8a17c7ec23a
URL:https://mitchmcvicker.com/concerts/gig-886/
DTSTART;VALUE=DATE:20160219
SUMMARY:Barrister's Hall
LOCATION:Barrister's Hall\, Koscuisko\, MS
END:VEVENT
END:VCALENDAR
