BEGIN:VCALENDAR
VERSION:2.0
PRODID:-//AudioTheme 2.3.8
BEGIN:VEVENT
UID:urn:uuid:8abbb4b1-2f11-4cc8-88ba-d3cd91089439
URL:https://mitchmcvicker.com/concerts/gig-881/
DTSTART;VALUE=DATE:20160218
SUMMARY:New Life Fellowship
LOCATION:New Life Fellowship\, Westwego\, LA
END:VEVENT
END:VCALENDAR
