BEGIN:VCALENDAR
VERSION:2.0
PRODID:-//AudioTheme 2.3.8
BEGIN:VEVENT
UID:urn:uuid:7b94f281-f68f-4e82-bd5d-d987a78b58aa
URL:https://mitchmcvicker.com/concerts/gig-877/
DTSTART;VALUE=DATE:20170507
SUMMARY:Newsong Church
LOCATION:Newsong Church\, Grove\, OK
END:VEVENT
END:VCALENDAR
