BEGIN:VCALENDAR
VERSION:2.0
PRODID:-//AudioTheme 2.3.8
BEGIN:VEVENT
UID:urn:uuid:cca781a8-7479-4268-baf6-29b1110fd2f0
URL:https://mitchmcvicker.com/concerts/gig-875/
DTSTART;VALUE=DATE:20170507
SUMMARY:Lifepoint Church
LOCATION:Lifepoint Church\, 200 SW 30th St\, Topeka\, KS
END:VEVENT
END:VCALENDAR
