BEGIN:VCALENDAR
VERSION:2.0
PRODID:-//AudioTheme 2.3.8
BEGIN:VEVENT
UID:urn:uuid:8646b32b-8c90-4e47-9bb7-eee06be2e7b7
URL:https://mitchmcvicker.com/concerts/gig-874/
DTSTART;VALUE=DATE:20170506
SUMMARY:Topeka  Free Methodist Church
LOCATION:Topeka  Free Methodist Church\, 3450 SE Indiana Ave\, Topeka\, KS
END:VEVENT
END:VCALENDAR
