BEGIN:VCALENDAR
VERSION:2.0
PRODID:-//AudioTheme 2.3.8
BEGIN:VEVENT
UID:urn:uuid:f3cfb237-c1fa-47bc-8429-b1270627a61e
URL:https://mitchmcvicker.com/concerts/gig-873/
DTSTART;VALUE=DATE:20170505
SUMMARY:Pathway Church
LOCATION:Pathway Church\, 6523 Merle Hay Rd\, Johnston\, IA\, USA\, 50131
END:VEVENT
END:VCALENDAR
