BEGIN:VCALENDAR
VERSION:2.0
PRODID:-//AudioTheme 2.3.8
BEGIN:VEVENT
UID:urn:uuid:f35225c2-60bb-4a89-b4f3-f62aa27ff446
URL:https://mitchmcvicker.com/concerts/gig-871/
DTSTART;VALUE=DATE:20170504
SUMMARY:First United Methodist Church
LOCATION:First United Methodist Church\, Atlantic\, IA
END:VEVENT
END:VCALENDAR
