BEGIN:VCALENDAR
VERSION:2.0
PRODID:-//AudioTheme 2.3.8
BEGIN:VEVENT
UID:urn:uuid:ef82f4c9-1286-4834-99d7-1b5428a48c08
URL:https://mitchmcvicker.com/concerts/gig-866/
DTSTART;VALUE=DATE:20170424
SUMMARY:First Baptist Church
LOCATION:First Baptist Church\, Sheridan\, WY
END:VEVENT
END:VCALENDAR
