BEGIN:VCALENDAR
VERSION:2.0
PRODID:-//AudioTheme 2.3.8
BEGIN:VEVENT
UID:urn:uuid:343145c9-dffd-4008-a911-664fceb5e684
URL:https://mitchmcvicker.com/concerts/gig-864/
DTSTART;VALUE=DATE:20170423
SUMMARY:Central Christian Church
LOCATION:Central Christian Church\, Colorado Springs\, CO
END:VEVENT
END:VCALENDAR
