BEGIN:VCALENDAR
VERSION:2.0
PRODID:-//AudioTheme 2.3.8
BEGIN:VEVENT
UID:urn:uuid:cf9f7a49-03e7-4a5a-9d01-e8895ebb436b
URL:https://mitchmcvicker.com/concerts/gig-860/
DTSTART;VALUE=DATE:20170421
SUMMARY:Ainsworth Church of the Nazarene
LOCATION:Ainsworth Church of the Nazarene\, Ainsworth\, NE
END:VEVENT
END:VCALENDAR
