BEGIN:VCALENDAR
VERSION:2.0
PRODID:-//AudioTheme 2.3.8
BEGIN:VEVENT
UID:urn:uuid:d586bb1f-bd57-4c0c-8638-cd33f9f13144
URL:https://mitchmcvicker.com/concerts/gig-859/
DTSTART;VALUE=DATE:20170420
SUMMARY:Rebels In His Hands Church/About Him Ministries
LOCATION:Rebels In His Hands Church/About Him Ministries\, Council Bluffs\, IA
END:VEVENT
END:VCALENDAR
