BEGIN:VCALENDAR
VERSION:2.0
PRODID:-//AudioTheme 2.3.8
BEGIN:VEVENT
UID:urn:uuid:6d687792-1c53-4132-bc92-768c6a7c2415
URL:https://mitchmcvicker.com/concerts/gig-855/
DTSTART;VALUE=DATE:20170419
SUMMARY:Christ Church Presbyterian
LOCATION:Christ Church Presbyterian\, Cedar Rapids\, IA
END:VEVENT
END:VCALENDAR
