BEGIN:VCALENDAR
VERSION:2.0
PRODID:-//AudioTheme 2.3.8
BEGIN:VEVENT
UID:urn:uuid:1894b958-3c8e-43ce-af7d-02cae554f384
URL:https://mitchmcvicker.com/concerts/gig-853/
DTSTART;VALUE=DATE:20170326
SUMMARY:Forward Community Church
LOCATION:Forward Community Church\, 298 Missouri State Rd 131\, Holden\, MO\, 64040
END:VEVENT
END:VCALENDAR
