BEGIN:VCALENDAR
VERSION:2.0
PRODID:-//AudioTheme 2.3.8
BEGIN:VEVENT
UID:urn:uuid:ac6fb7b6-ed06-4b7f-881d-9cdc2e26a6a6
URL:https://mitchmcvicker.com/concerts/gig-847/
DTSTART;VALUE=DATE:20170322
SUMMARY:Batesville Christian Church
LOCATION:Batesville Christian Church\, 1294 Columbus Ave.\, Batesville\, IN
END:VEVENT
END:VCALENDAR
