BEGIN:VCALENDAR
VERSION:2.0
PRODID:-//AudioTheme 2.3.8
BEGIN:VEVENT
UID:urn:uuid:fc0e6ee7-5e56-4a08-bfb4-8c5096e429dd
URL:https://mitchmcvicker.com/concerts/gig-845/
DTSTART;VALUE=DATE:20170305
SUMMARY:Westchester UMC
LOCATION:Westchester UMC\, Portland\, IN
END:VEVENT
END:VCALENDAR
