BEGIN:VCALENDAR
VERSION:2.0
PRODID:-//AudioTheme 2.3.8
BEGIN:VEVENT
UID:urn:uuid:4069e87d-3885-44e9-be1b-b8202d6bf128
URL:https://mitchmcvicker.com/concerts/gig-837/
DTSTART;VALUE=DATE:20170302
SUMMARY:Lynhurst Baptist Church
LOCATION:Lynhurst Baptist Church\, Indianapolis\, IN
END:VEVENT
END:VCALENDAR
