BEGIN:VCALENDAR
VERSION:2.0
PRODID:-//AudioTheme 2.3.8
BEGIN:VEVENT
UID:urn:uuid:323dc57e-8f3d-4156-972e-9a0d446bc4f5
URL:https://mitchmcvicker.com/concerts/gig-835/
DTSTART;VALUE=DATE:20170301
SUMMARY:Trinity Church
LOCATION:Trinity Church\, Middleburg Heights\, OH
END:VEVENT
END:VCALENDAR
