BEGIN:VCALENDAR
VERSION:2.0
PRODID:-//AudioTheme 2.3.8
BEGIN:VEVENT
UID:urn:uuid:f40f6c60-dcb8-4f80-84de-49b47021a521
URL:https://mitchmcvicker.com/concerts/gig-831/
DTSTART;TZID=GMT:20200529T230000
SUMMARY:POSTPONED His Church Anglican
LOCATION:POSTPONED His Church Anglican\, 34500 Six Mile Rd. (formerly the Trinity Church facility)\, POSTPONED Livonia\, MI
END:VEVENT
END:VCALENDAR
