BEGIN:VCALENDAR
VERSION:2.0
PRODID:-//AudioTheme 2.3.8
BEGIN:VEVENT
UID:urn:uuid:074ea065-25f3-4c44-b15c-49e5bd7acd5e
URL:https://mitchmcvicker.com/concerts/gig-829/
DTSTART;TZID=GMT:20200528T230000
SUMMARY:POSTPONED Unity Christian Church
LOCATION:POSTPONED Unity Christian Church\, 140 N Pennsylvania St\, POSTPONED Marion\, IN
END:VEVENT
END:VCALENDAR
