BEGIN:VCALENDAR
VERSION:2.0
PRODID:-//AudioTheme 2.3.8
BEGIN:VEVENT
UID:urn:uuid:68b585d6-bd3d-48b8-881d-6a3e80bc065b
URL:https://mitchmcvicker.com/concerts/gig-827/
DTSTART;TZID=GMT:20200528T000000
SUMMARY:POSTPONED Liberty Bible Church
LOCATION:POSTPONED Liberty Bible Church\, 1155 S. Sturdy Rd.\, POSTPONED Valparaiso\, IN
END:VEVENT
END:VCALENDAR
