BEGIN:VCALENDAR
VERSION:2.0
PRODID:-//AudioTheme 2.3.8
BEGIN:VEVENT
UID:urn:uuid:dddb2010-8431-4771-97f2-d428a4b26179
URL:https://mitchmcvicker.com/concerts/gig-825/
DTSTART;TZID=GMT:20200517T223000
SUMMARY:POSTPONED The Shepherd’s Fellowship
LOCATION:POSTPONED The Shepherd’s Fellowship\, 1647 Marion Marysville Rd (On State Route 4)\, POSTPONED Marion\, OH
END:VEVENT
END:VCALENDAR
