BEGIN:VCALENDAR
VERSION:2.0
PRODID:-//AudioTheme 2.3.8
BEGIN:VEVENT
UID:urn:uuid:1c941588-c257-4402-8a23-2add161962e7
URL:https://mitchmcvicker.com/concerts/gig-823/
DTSTART;TZID=GMT:20200516T230000
SUMMARY:POSTPONED Cross America, Inc.
LOCATION:POSTPONED Cross America\, Inc.\, 840 Daniel Drive\, POSTPONED Kokomo\, IN
END:VEVENT
END:VCALENDAR
