BEGIN:VCALENDAR
VERSION:2.0
PRODID:-//AudioTheme 2.3.8
BEGIN:VEVENT
UID:urn:uuid:3972fc27-14a8-4cae-8ef1-c37b42b60dc8
URL:https://mitchmcvicker.com/concerts/gig-822/
DTSTART;TZID=GMT:20200515T230000
SUMMARY:The Trinity Church of Middleburg Heights
LOCATION:The Trinity Church of Middleburg Heights\, 14040 Bagley Rd\, Middleburg Heights\, OH\, USA\, 44130
END:VEVENT
END:VCALENDAR
