BEGIN:VCALENDAR
VERSION:2.0
PRODID:-//AudioTheme 2.3.8
BEGIN:VEVENT
UID:urn:uuid:8a50d1a2-0f31-48bf-85c5-a070f48f7a1d
URL:https://mitchmcvicker.com/concerts/gig-819/
DTSTART;TZID=GMT:20200513T230000
SUMMARY:First Presbyterian Church
LOCATION:First Presbyterian Church\, 200 N Lisbon St\, Carrollton\, OH
END:VEVENT
END:VCALENDAR
