BEGIN:VCALENDAR
VERSION:2.0
PRODID:-//AudioTheme 2.3.8
BEGIN:VEVENT
UID:urn:uuid:78f21429-29e5-45bf-96cf-ec3b2fd3ff62
URL:https://mitchmcvicker.com/concerts/gig-817/
DTSTART;TZID=GMT:20200503T170000
SUMMARY:Andover Christian Church
LOCATION:Andover Christian Church\, 150 Stillman Ave\, Andover\, OH
END:VEVENT
END:VCALENDAR
