BEGIN:VCALENDAR
VERSION:2.0
PRODID:-//AudioTheme 2.3.8
BEGIN:VEVENT
UID:urn:uuid:63b38b21-5f70-494a-8559-048ae177a82d
URL:https://mitchmcvicker.com/concerts/gig-816/
DTSTART;TZID=GMT:20200502T230000
SUMMARY:POSTPONED Emmaus Road Cafe
LOCATION:POSTPONED Emmaus Road Cafe\, 1886 Lincoln Hwy E\, POSTPONED Lancaster\, PA\, USA\, 17602
END:VEVENT
END:VCALENDAR
