BEGIN:VCALENDAR
VERSION:2.0
PRODID:-//AudioTheme 2.3.8
BEGIN:VEVENT
UID:urn:uuid:99052ff4-6ceb-4a49-b7e7-bb474015446c
URL:https://mitchmcvicker.com/concerts/gig-814/
DTSTART;TZID=GMT:20200501T220000
SUMMARY:POSTPONED Grace Covenant Community Church
LOCATION:POSTPONED Grace Covenant Community Church\, 99 Café Lane\, POSTPONED Middleburg\, PA
END:VEVENT
END:VCALENDAR
