BEGIN:VCALENDAR
VERSION:2.0
PRODID:-//AudioTheme 2.3.8
BEGIN:VEVENT
UID:urn:uuid:71c440d0-6ba3-4fe8-959d-c23fb8003a5c
URL:https://mitchmcvicker.com/concerts/gig-812/
DTSTART;VALUE=DATE:20170228
SUMMARY:Beautiful Savior Lutheran Church
LOCATION:Beautiful Savior Lutheran Church\, 3924 Home Road\, Powell\, OH\, 43065
END:VEVENT
END:VCALENDAR
