BEGIN:VCALENDAR
VERSION:2.0
PRODID:-//AudioTheme 2.3.8
BEGIN:VEVENT
UID:urn:uuid:dcc90ff7-c2b5-4dfc-b439-fd0255bbef9b
URL:https://mitchmcvicker.com/concerts/gig-810/
DTSTART;VALUE=DATE:20170211
SUMMARY:Trinity United Methodist Church
LOCATION:Trinity United Methodist Church\, Newburgh\, New York
END:VEVENT
END:VCALENDAR
