BEGIN:VCALENDAR
VERSION:2.0
PRODID:-//AudioTheme 2.3.8
BEGIN:VEVENT
UID:urn:uuid:887472b3-e142-42a6-b3fb-0cb7cf7662ed
URL:https://mitchmcvicker.com/concerts/gig-808/
DTSTART;VALUE=DATE:20170210
SUMMARY:Samantha's Lil Bit of Heaven
LOCATION:Samantha's Lil Bit of Heaven\, 287 Larkfield Rd\, East Northport\, NY\, 11731
END:VEVENT
END:VCALENDAR
