BEGIN:VCALENDAR
VERSION:2.0
PRODID:-//AudioTheme 2.3.8
BEGIN:VEVENT
UID:urn:uuid:8f5491c0-cf71-47c6-988b-e50b4b3f1997
URL:https://mitchmcvicker.com/concerts/gig-807/
DTSTART;VALUE=DATE:20170209
SUMMARY:Advent Lutheran Church
LOCATION:Advent Lutheran Church\, 45 Worthington Mill Rd\, Richboro\, PA\, USA\, 18954
END:VEVENT
END:VCALENDAR
