BEGIN:VCALENDAR
VERSION:2.0
PRODID:-//AudioTheme 2.3.8
BEGIN:VEVENT
UID:urn:uuid:ae04b105-85a9-434f-a0bf-4695da56af6f
URL:https://mitchmcvicker.com/concerts/gig-799/
DTSTART;VALUE=DATE:20170212
SUMMARY:First Presbyterian Church
LOCATION:First Presbyterian Church\, Dunellen\, NJ
END:VEVENT
END:VCALENDAR
