BEGIN:VCALENDAR
VERSION:2.0
PRODID:-//AudioTheme 2.3.8
BEGIN:VEVENT
UID:urn:uuid:5fe33266-2172-4573-8c91-b30cf45789c5
URL:https://mitchmcvicker.com/concerts/gig-794/
DTSTART;VALUE=DATE:20170208
SUMMARY:Pleasant Garden Baptist Church
LOCATION:Pleasant Garden Baptist Church\, 1415 Neelley Rd\, Pleasant Garden\, NC\, 27313
END:VEVENT
END:VCALENDAR
