BEGIN:VCALENDAR
VERSION:2.0
PRODID:-//AudioTheme 2.3.8
BEGIN:VEVENT
UID:urn:uuid:fc31cb69-38cc-4a32-982d-dd5dc908d411
URL:https://mitchmcvicker.com/concerts/gig-791/
DTSTART;TZID=GMT:20200430T230000
SUMMARY:POSTPONED Friendship Community Church
LOCATION:POSTPONED Friendship Community Church\, 3380 Fox Run Road\, POSTPONED Dover\, PA
END:VEVENT
END:VCALENDAR
