BEGIN:VCALENDAR
VERSION:2.0
PRODID:-//AudioTheme 2.3.8
BEGIN:VEVENT
UID:urn:uuid:3ab62ffb-a42d-4261-b504-cec126c5e3cb
URL:https://mitchmcvicker.com/concerts/gig-790/
DTSTART;TZID=GMT:20200419T233000
SUMMARY:POSTPONED Christ Church
LOCATION:POSTPONED Christ Church\, 531 Washington St\, POSTPONED Michigan City\, IN\, 46360
END:VEVENT
END:VCALENDAR
