BEGIN:VCALENDAR
VERSION:2.0
PRODID:-//AudioTheme 2.3.8
BEGIN:VEVENT
UID:urn:uuid:544ca348-0ef9-4b5f-a681-cd0228c18b63
URL:https://mitchmcvicker.com/concerts/gig-787/
DTSTART;TZID=GMT:20200330T000000
SUMMARY:POSTPONED LifeSpring Community Church
LOCATION:POSTPONED LifeSpring Community Church\, 1615 Thoele Road\, POSTPONED St. Peters\, MO
END:VEVENT
END:VCALENDAR
